BEGIN:VCALENDAR
VERSION:2.0
PRODID:-//Der Town//Event Calendar//EN
CALSCALE:GREGORIAN
METHOD:PUBLISH
BEGIN:VTIMEZONE
TZID:America/Los_Angeles
X-LIC-LOCATION:America/Los_Angeles
BEGIN:DAYLIGHT
TZOFFSETFROM:-0800
TZOFFSETTO:-0700
TZNAME:PDT
DTSTART:19700308T020000
RRULE:FREQ=YEARLY;BYMONTH=3;BYDAY=2SU
END:DAYLIGHT
BEGIN:STANDARD
TZOFFSETFROM:-0700
TZOFFSETTO:-0800
TZNAME:PST
DTSTART:19701101T020000
RRULE:FREQ=YEARLY;BYMONTH=11;BYDAY=1SU
END:STANDARD
END:VTIMEZONE
BEGIN:VEVENT
SUMMARY:Community Engagement Night
DTSTART;TZID=America/Los_Angeles:20260505T160000
DTEND;TZID=America/Los_Angeles:20260505T190000
DTSTAMP:20260422T170008Z
UID:f2ca15d5-e365-4c4f-a4cf-73da7b2e9dbd@dertown.com
LOCATION:Festhalle
DESCRIPTION:Booths and tables set up with representatives from city projects, local non-profits and agency partners. And more…\n\nLight refreshments will be provided
END:VEVENT
END:VCALENDAR