BEGIN:VCALENDAR
VERSION:2.0
PRODID:-//Der Town//Event Calendar//EN
CALSCALE:GREGORIAN
METHOD:PUBLISH
BEGIN:VTIMEZONE
TZID:America/Los_Angeles
X-LIC-LOCATION:America/Los_Angeles
BEGIN:DAYLIGHT
TZOFFSETFROM:-0800
TZOFFSETTO:-0700
TZNAME:PDT
DTSTART:19700308T020000
RRULE:FREQ=YEARLY;BYMONTH=3;BYDAY=2SU
END:DAYLIGHT
BEGIN:STANDARD
TZOFFSETFROM:-0700
TZOFFSETTO:-0800
TZNAME:PST
DTSTART:19701101T020000
RRULE:FREQ=YEARLY;BYMONTH=11;BYDAY=1SU
END:STANDARD
END:VTIMEZONE
BEGIN:VEVENT
SUMMARY:Bird Fest Happy Hour and Game Night
DTSTART;TZID=America/Los_Angeles:20260515T150000
DTEND;TZID=America/Los_Angeles:20260515T190000
DTSTAMP:20260422T165731Z
UID:f14a55b7-aa1b-443f-bc0d-574862662645@dertown.com
LOCATION:Wenatchee River Institute
DESCRIPTION:After a great day of birding, come socialize with us at the Bird Fest Happy Hour held on the beautiful Wenatchee River Institute campus! Open to everyone with no registration required, this free event is the perfect place to drop in anytime to meet fellow birders and friends, old and new. \n\n#### 3:00 – 5:00 PM | Bird Games\n\nJoin Audubon volunteers to play Wingspan and other bird-themed games—whether you're a seasoned player or just want to see what the buzz is about. \n\n#### 5:30 – 7:00 PM | Bird Trivia\n\nPut your knowledge to the test! Bring your own team or join one on the spot for some friendly competition. \n\nRefreshments: Beer, wine, and sparkling water will be available for purchase. \n\nThanks to our sponsor Icicle Brewing Company for providing the beer! \n\nFREE, no registration required. Help us give special thanks to our lead partner for Leavenworth Spring Bird Fest, NCW Audubon Society, and our 2026 Bird Fest Title Sponsor, Sleeping Lady Mountain Resort!
URL:https://wenatcheeriverinstitute.org/event-calendar.html/event/2026/05/15/bird-fest-happy-hour-and-game-night/556728
END:VEVENT
END:VCALENDAR