BEGIN:VCALENDAR
VERSION:2.0
PRODID:-//Der Town//Event Calendar//EN
CALSCALE:GREGORIAN
METHOD:PUBLISH
BEGIN:VTIMEZONE
TZID:America/Los_Angeles
X-LIC-LOCATION:America/Los_Angeles
BEGIN:DAYLIGHT
TZOFFSETFROM:-0800
TZOFFSETTO:-0700
TZNAME:PDT
DTSTART:19700308T020000
RRULE:FREQ=YEARLY;BYMONTH=3;BYDAY=2SU
END:DAYLIGHT
BEGIN:STANDARD
TZOFFSETFROM:-0700
TZOFFSETTO:-0800
TZNAME:PST
DTSTART:19701101T020000
RRULE:FREQ=YEARLY;BYMONTH=11;BYDAY=1SU
END:STANDARD
END:VTIMEZONE
BEGIN:VEVENT
SUMMARY:Community Block Party
DTSTART;TZID=America/Los_Angeles:20260820T160000
DTEND;TZID=America/Los_Angeles:20260820T200000
DTSTAMP:20260422T170644Z
UID:e878f88a-c12e-467c-9289-93fe4a5c5a9c@dertown.com
LOCATION:Osborne
DESCRIPTION:We’ll have food, games, info about City projects, and fun times!
END:VEVENT
END:VCALENDAR