BEGIN:VCALENDAR
VERSION:2.0
PRODID:-//Der Town//Event Calendar//EN
CALSCALE:GREGORIAN
METHOD:PUBLISH
BEGIN:VTIMEZONE
TZID:America/Los_Angeles
X-LIC-LOCATION:America/Los_Angeles
BEGIN:DAYLIGHT
TZOFFSETFROM:-0800
TZOFFSETTO:-0700
TZNAME:PDT
DTSTART:19700308T020000
RRULE:FREQ=YEARLY;BYMONTH=3;BYDAY=2SU
END:DAYLIGHT
BEGIN:STANDARD
TZOFFSETFROM:-0700
TZOFFSETTO:-0800
TZNAME:PST
DTSTART:19701101T020000
RRULE:FREQ=YEARLY;BYMONTH=11;BYDAY=1SU
END:STANDARD
END:VTIMEZONE
BEGIN:VEVENT
SUMMARY:Benjamin Jay Thomas: Behind Your Eyes, The Stars Are Born
DTSTART;TZID=America/Los_Angeles:20260620T190000
DTEND;TZID=America/Los_Angeles:20260620T220000
DTSTAMP:20260422T165622Z
UID:e7bc68e6-1d99-4244-b7ba-b9882d3c6750@dertown.com
LOCATION:Snowy Owl Theater
DESCRIPTION:An album release concert! Behind Your Eyes, The Stars Are Born is a record five years in the making, a joyful, searching, ultimately hopeful celebration of the divine creativity alive in every human being.\n\nThe night after his eighth album releases to the world, Benjamin Jay Thomas comes home to celebrate it. Behind Your Eyes, The Stars Are Born is a record five years in the making — a joyful, searching, ultimately hopeful celebration of the divine creativity alive in every human being. The release show at Snowy Owl Theater is the first full live performance of this music: an evening shaped as a Guided Concert, moving through song, poetry, moments of silence, and communal singing, supported by a handful of other voices from the Bring Forth community.\n\nThe set will be a carefully crafted arc... an experience designed to let the music land the way it was written to land: in a room full of people, together.\n\nBehind Your Eyes, The Stars Are Born is Benjamin Jay Thomas's eighth full length album, five years in the making. It is his most sonically adventurous record yet - blending indie folk roots with the warmth and lift of indie pop - and his most personal: a full-throated celebration of the seed of divine creativity at the center of every human being.\n\nThe album moves through longing and reconnection, through the rebel cry of imagination refusing to be shrunk, through the medicine of faithful witness and presence. It ends where it begins: in the heart, in the body, in the deep knowing that the Wisdom is you.
URL:https://icicle.my.salesforce-sites.com/ticket/#/instances/a0FPH00000Dojwv2AB
END:VEVENT
END:VCALENDAR