BEGIN:VCALENDAR
VERSION:2.0
PRODID:-//Der Town//Event Calendar//EN
CALSCALE:GREGORIAN
METHOD:PUBLISH
BEGIN:VTIMEZONE
TZID:America/Los_Angeles
X-LIC-LOCATION:America/Los_Angeles
BEGIN:DAYLIGHT
TZOFFSETFROM:-0800
TZOFFSETTO:-0700
TZNAME:PDT
DTSTART:19700308T020000
RRULE:FREQ=YEARLY;BYMONTH=3;BYDAY=2SU
END:DAYLIGHT
BEGIN:STANDARD
TZOFFSETFROM:-0700
TZOFFSETTO:-0800
TZNAME:PST
DTSTART:19701101T020000
RRULE:FREQ=YEARLY;BYMONTH=11;BYDAY=1SU
END:STANDARD
END:VTIMEZONE
BEGIN:VEVENT
SUMMARY:Bookbinding workshop: Japanese Stab Binding 
DTSTART;TZID=America/Los_Angeles:20260516T110000
DTEND;TZID=America/Los_Angeles:20260516T130000
DTSTAMP:20260422T165731Z
UID:ce109b4b-5dd2-4786-9788-b421c3b0326a@dertown.com
LOCATION:Peshastin Public Library
DESCRIPTION:Japanese stab binding (fukuro-toji) is method that involves stitching books together using a needle and thread. We’ll learn about the history of this fascinating technique and make books using the four-hole (Yotsume Toji), noble (Koki Toji), and hemp leaf (Asa-no-ha Toji) bindings. This program is geared towards teens and adults. Registration required. 
URL:https://ncwlibraries.libcal.com/event/16678919
END:VEVENT
END:VCALENDAR