BEGIN:VCALENDAR
VERSION:2.0
PRODID:-//Der Town//Event Calendar//EN
CALSCALE:GREGORIAN
METHOD:PUBLISH
BEGIN:VTIMEZONE
TZID:America/Los_Angeles
X-LIC-LOCATION:America/Los_Angeles
BEGIN:DAYLIGHT
TZOFFSETFROM:-0800
TZOFFSETTO:-0700
TZNAME:PDT
DTSTART:19700308T020000
RRULE:FREQ=YEARLY;BYMONTH=3;BYDAY=2SU
END:DAYLIGHT
BEGIN:STANDARD
TZOFFSETFROM:-0700
TZOFFSETTO:-0800
TZNAME:PST
DTSTART:19701101T020000
RRULE:FREQ=YEARLY;BYMONTH=11;BYDAY=1SU
END:STANDARD
END:VTIMEZONE
BEGIN:VEVENT
SUMMARY:Sensory Storytime - In the garden
DTSTART;TZID=America/Los_Angeles:20260424T103000
DTEND;TZID=America/Los_Angeles:20260424T113000
DTSTAMP:20260424T142422Z
UID:c6f8a22a-ab8f-4f76-99a8-c6ab6f190398@dertown.com
LOCATION:Peshastin Public Library
DESCRIPTION:Join us for interactive stories, songs, and movement! Sensory supports, including fidget toys and a visual schedule will be incorporated. Designed for neurodivergent children ages 3-7, but all are welcome to attend. Storytime will last for about 30 minutes, followed by 30 minutes of sensory play or art activities. \n\nRegistration recommended. 
URL:https://ncwlibraries.libcal.com/event/16559774
END:VEVENT
END:VCALENDAR