BEGIN:VCALENDAR
VERSION:2.0
PRODID:-//Der Town//Event Calendar//EN
CALSCALE:GREGORIAN
METHOD:PUBLISH
BEGIN:VTIMEZONE
TZID:America/Los_Angeles
X-LIC-LOCATION:America/Los_Angeles
BEGIN:DAYLIGHT
TZOFFSETFROM:-0800
TZOFFSETTO:-0700
TZNAME:PDT
DTSTART:19700308T020000
RRULE:FREQ=YEARLY;BYMONTH=3;BYDAY=2SU
END:DAYLIGHT
BEGIN:STANDARD
TZOFFSETFROM:-0700
TZOFFSETTO:-0800
TZNAME:PST
DTSTART:19701101T020000
RRULE:FREQ=YEARLY;BYMONTH=11;BYDAY=1SU
END:STANDARD
END:VTIMEZONE
BEGIN:VEVENT
SUMMARY:Bright Star
DTSTART;TZID=America/Los_Angeles:20260811T200000
DTEND;TZID=America/Los_Angeles:20260811T210000
DTSTAMP:20260422T165602Z
UID:c6c4b6b5-5fa7-400c-bdc5-6e984bb2a0fd@dertown.com
LOCATION:Ski Hill Amphitheater
DESCRIPTION:A young writer in 1940s North Carolina uncovers a heartbreaking 1920s love story involving a literary editor, a forbidden romance, and a tragic loss - all told through soaring bluegrass melodies that evoke redemption and healing. Written by Steve Martin and Edie Brickell. Directed by Dr. Emily Rollie, with a 2.5-hour running time, including a 15-minute intermission. Children under 5 (including babes in arms) are not permitted.
URL:https://leavenworthsummertheater.org/brightstar
END:VEVENT
END:VCALENDAR