BEGIN:VCALENDAR
VERSION:2.0
PRODID:-//Der Town//Event Calendar//EN
CALSCALE:GREGORIAN
METHOD:PUBLISH
BEGIN:VTIMEZONE
TZID:America/Los_Angeles
X-LIC-LOCATION:America/Los_Angeles
BEGIN:DAYLIGHT
TZOFFSETFROM:-0800
TZOFFSETTO:-0700
TZNAME:PDT
DTSTART:19700308T020000
RRULE:FREQ=YEARLY;BYMONTH=3;BYDAY=2SU
END:DAYLIGHT
BEGIN:STANDARD
TZOFFSETFROM:-0700
TZOFFSETTO:-0800
TZNAME:PST
DTSTART:19701101T020000
RRULE:FREQ=YEARLY;BYMONTH=11;BYDAY=1SU
END:STANDARD
END:VTIMEZONE
BEGIN:VEVENT
SUMMARY:The Sound of Music
DTSTART;TZID=America/Los_Angeles:20260820T200000
DTEND;TZID=America/Los_Angeles:20260820T223000
DTSTAMP:20260422T165557Z
UID:b0cbbc36-0ee7-4827-b58a-d8fe6eb23f0f@dertown.com
LOCATION:Ski Hill Amphitheater
DESCRIPTION:A beloved, not-to-be-missed Bavarian village tradition featuring the enchanting musical story of Maria and the von Trapp Family. Directed by Katie Newbury with a 2.5 hour running time. Children under 5 are not permitted.
URL:https://leavenworthsummertheater.org/som
END:VEVENT
END:VCALENDAR