BEGIN:VCALENDAR
VERSION:2.0
PRODID:-//Der Town//Event Calendar//EN
CALSCALE:GREGORIAN
METHOD:PUBLISH
BEGIN:VTIMEZONE
TZID:America/Los_Angeles
X-LIC-LOCATION:America/Los_Angeles
BEGIN:DAYLIGHT
TZOFFSETFROM:-0800
TZOFFSETTO:-0700
TZNAME:PDT
DTSTART:19700308T020000
RRULE:FREQ=YEARLY;BYMONTH=3;BYDAY=2SU
END:DAYLIGHT
BEGIN:STANDARD
TZOFFSETFROM:-0700
TZOFFSETTO:-0800
TZNAME:PST
DTSTART:19701101T020000
RRULE:FREQ=YEARLY;BYMONTH=11;BYDAY=1SU
END:STANDARD
END:VTIMEZONE
BEGIN:VEVENT
SUMMARY:Leavenworth Firefighter Challenge
DTSTART;TZID=America/Los_Angeles:20260425T100000
DTEND;TZID=America/Los_Angeles:20260425T130000
DTSTAMP:20260422T151718Z
UID:a7e32e76-da28-4407-9a9b-4a73d33d77de@dertown.com
LOCATION:Ski Hill
DESCRIPTION:Climbing 1,665 vertical feet over 6.2 miles (10k) of rugged National Forest terrain the Leavenworth Firefighter Challenge will test the physical and mental endurance of the toughest competitors.\n\nThe race is followed by a party at Ski Hill with a beer garden, food booths, and live music.\n\nThe Leavenworth Firefighter Challenge is hosted by Chelan County Fire District #3 Firefighters. We are a combination department serving Leavenworth and the Upper Wenatchee Valley through response to both structure and wildland fire, EMS, and technical outdoor rescue.
URL:https://www.lwffc.org/
END:VEVENT
END:VCALENDAR