BEGIN:VCALENDAR
VERSION:2.0
PRODID:-//Der Town//Event Calendar//EN
CALSCALE:GREGORIAN
METHOD:PUBLISH
BEGIN:VTIMEZONE
TZID:America/Los_Angeles
X-LIC-LOCATION:America/Los_Angeles
BEGIN:DAYLIGHT
TZOFFSETFROM:-0800
TZOFFSETTO:-0700
TZNAME:PDT
DTSTART:19700308T020000
RRULE:FREQ=YEARLY;BYMONTH=3;BYDAY=2SU
END:DAYLIGHT
BEGIN:STANDARD
TZOFFSETFROM:-0700
TZOFFSETTO:-0800
TZNAME:PST
DTSTART:19701101T020000
RRULE:FREQ=YEARLY;BYMONTH=11;BYDAY=1SU
END:STANDARD
END:VTIMEZONE
BEGIN:VEVENT
SUMMARY:Benevolent Day for MEND at South.
DTSTART;TZID=America/Los_Angeles:20260423T110000
DTEND;TZID=America/Los_Angeles:20260423T200000
DTSTAMP:20260422T151205Z
UID:a5efe99e-cb22-44f0-8b92-c828c4d17902@dertown.com
LOCATION:SOUTH Leavenworth
DESCRIPTION:Join us for Benevolent Night at South Restaurant benefitting MEND. \n\nEnjoy an amazing meal, knowing that 20 percent of all food and non-alcoholic drink sales during that day will go toward supporting MEND’s programs and mission to meet the needs of local community members with dignity. 
URL:https://www.uvmend.org/events/benevolent-night-at-south
END:VEVENT
END:VCALENDAR