BEGIN:VCALENDAR
VERSION:2.0
PRODID:-//Der Town//Event Calendar//EN
CALSCALE:GREGORIAN
METHOD:PUBLISH
BEGIN:VTIMEZONE
TZID:America/Los_Angeles
X-LIC-LOCATION:America/Los_Angeles
BEGIN:DAYLIGHT
TZOFFSETFROM:-0800
TZOFFSETTO:-0700
TZNAME:PDT
DTSTART:19700308T020000
RRULE:FREQ=YEARLY;BYMONTH=3;BYDAY=2SU
END:DAYLIGHT
BEGIN:STANDARD
TZOFFSETFROM:-0700
TZOFFSETTO:-0800
TZNAME:PST
DTSTART:19701101T020000
RRULE:FREQ=YEARLY;BYMONTH=11;BYDAY=1SU
END:STANDARD
END:VTIMEZONE
BEGIN:VEVENT
SUMMARY:May Board Meeting
DTSTART;TZID=America/Los_Angeles:20260504T180000
DTEND;TZID=America/Los_Angeles:20260504T200000
DTSTAMP:20260422T165601Z
UID:9b2f66ce-89c8-4ac5-86d7-8fc1172812be@dertown.com
LOCATION:Ski Hill Lodge
DESCRIPTION:At the Bavarian Lodge at 6:00pm
URL:https://skileavenworth.com/events/may-board-meeting
END:VEVENT
END:VCALENDAR