BEGIN:VCALENDAR
VERSION:2.0
PRODID:-//Der Town//Event Calendar//EN
CALSCALE:GREGORIAN
METHOD:PUBLISH
BEGIN:VTIMEZONE
TZID:America/Los_Angeles
X-LIC-LOCATION:America/Los_Angeles
BEGIN:DAYLIGHT
TZOFFSETFROM:-0800
TZOFFSETTO:-0700
TZNAME:PDT
DTSTART:19700308T020000
RRULE:FREQ=YEARLY;BYMONTH=3;BYDAY=2SU
END:DAYLIGHT
BEGIN:STANDARD
TZOFFSETFROM:-0700
TZOFFSETTO:-0800
TZNAME:PST
DTSTART:19701101T020000
RRULE:FREQ=YEARLY;BYMONTH=11;BYDAY=1SU
END:STANDARD
END:VTIMEZONE
BEGIN:VEVENT
SUMMARY:Upper Valley MEND Annual Business Meeting
DTSTART;TZID=America/Los_Angeles:20260429T143000
DTEND;TZID=America/Los_Angeles:20260429T153000
DTSTAMP:20260422T165440Z
UID:9a5e4ef2-c534-4b96-9d65-68dcf5d71a7d@dertown.com
LOCATION:
DESCRIPTION:Zoom meeting to learn about 2025 and the progress made in MEND’s programs, including food, wellness, economic security and housing. We’ll also discuss where MEND is going in 2026 and beyond.\n\nIt's a great time to learn the latest about what's going on at Upper Valley MEND. And, if you'd prefer to vote live, you will have the chance to vote for new and renewing board members during the meeting.
URL:https://us06web.zoom.us/j/9023493188
END:VEVENT
END:VCALENDAR