BEGIN:VCALENDAR
VERSION:2.0
PRODID:-//Der Town//Event Calendar//EN
CALSCALE:GREGORIAN
METHOD:PUBLISH
BEGIN:VTIMEZONE
TZID:America/Los_Angeles
X-LIC-LOCATION:America/Los_Angeles
BEGIN:DAYLIGHT
TZOFFSETFROM:-0800
TZOFFSETTO:-0700
TZNAME:PDT
DTSTART:19700308T020000
RRULE:FREQ=YEARLY;BYMONTH=3;BYDAY=2SU
END:DAYLIGHT
BEGIN:STANDARD
TZOFFSETFROM:-0700
TZOFFSETTO:-0800
TZNAME:PST
DTSTART:19701101T020000
RRULE:FREQ=YEARLY;BYMONTH=11;BYDAY=1SU
END:STANDARD
END:VTIMEZONE
BEGIN:VEVENT
SUMMARY:Culture Critics Club (6th-8th)
DTSTART;TZID=America/Los_Angeles:20260513T153000
DTEND;TZID=America/Los_Angeles:20260513T163000
DTSTAMP:20260422T165424Z
UID:99f4d00d-e868-491d-a51a-7a59bd2ca8de@dertown.com
LOCATION:Leavenworth Public Library
DESCRIPTION:This after-school meet up is for middle schoolers who love culture (books, movies, tv, music, video games, theater, art, dance, etc.) and have strong opinions about it! We'll talk about the things we love and hate and try to figure out why, and how our opinions reflect who we are and the culture we live in. Snacks provided by the Friends of the Leavenworth Library.
URL:https://ncwlibraries.libcal.com/event/16038371
END:VEVENT
END:VCALENDAR