BEGIN:VCALENDAR
VERSION:2.0
PRODID:-//Der Town//Event Calendar//EN
CALSCALE:GREGORIAN
METHOD:PUBLISH
BEGIN:VTIMEZONE
TZID:America/Los_Angeles
X-LIC-LOCATION:America/Los_Angeles
BEGIN:DAYLIGHT
TZOFFSETFROM:-0800
TZOFFSETTO:-0700
TZNAME:PDT
DTSTART:19700308T020000
RRULE:FREQ=YEARLY;BYMONTH=3;BYDAY=2SU
END:DAYLIGHT
BEGIN:STANDARD
TZOFFSETFROM:-0700
TZOFFSETTO:-0800
TZNAME:PST
DTSTART:19701101T020000
RRULE:FREQ=YEARLY;BYMONTH=11;BYDAY=1SU
END:STANDARD
END:VTIMEZONE
BEGIN:VEVENT
SUMMARY:Potty Party!
DTSTART;TZID=America/Los_Angeles:20260429T180000
DTEND;TZID=America/Los_Angeles:20260429T200000
DTSTAMP:20260422T151146Z
UID:97c27055-e3ff-428f-82c1-3bdc0ae29012@dertown.com
LOCATION:Ski Hill Lodge
DESCRIPTION:The time has finally come, to throw a Potty Party for the new ADA bathroom and pavilion project!\n\nRibbon cutting will be at 6pm directly followed by the First Flushes (see below) and then a dance party and live music with Eric Link on the pavilion.\n\nThanks to the generous donations of the community through Loos 4 the Lodge, grants and support from various donors, community and members who have given time and money to this project. We couldn't do it without all of the support and generosity from our members, community, staff and board.\n \n### First Flushes Silent Auction + Raffle\nGet your tickets for the silent auction and raffle for the first round of flushes and the FIRST OFFICIAL flush. \n\nBidding will be in person and you will have TWO opportunities to bid! You can bid and purchase your raffle tickets at the Annual Membership Meeting on April 6th or at Banff Centre Mountain Film Festival World Tour on April 9th. Winners will be notified via phone/email.\n\nSilent Auction/Raffle:\n\n- First Flush- FIRST OFFICIAL flush in the stall of your choice\n- Royal Flush- Five spots in additional stalls for the next round of flushes\n- The Gambler- Last stall space will be a raffle!  $1 tickets gets you the last stall space for the first flushes 
URL:https://skileavenworth.com/events/potty-party-ribbon-cutting
END:VEVENT
END:VCALENDAR