BEGIN:VCALENDAR
VERSION:2.0
PRODID:-//Der Town//Event Calendar//EN
CALSCALE:GREGORIAN
METHOD:PUBLISH
BEGIN:VTIMEZONE
TZID:America/Los_Angeles
X-LIC-LOCATION:America/Los_Angeles
BEGIN:DAYLIGHT
TZOFFSETFROM:-0800
TZOFFSETTO:-0700
TZNAME:PDT
DTSTART:19700308T020000
RRULE:FREQ=YEARLY;BYMONTH=3;BYDAY=2SU
END:DAYLIGHT
BEGIN:STANDARD
TZOFFSETFROM:-0700
TZOFFSETTO:-0800
TZNAME:PST
DTSTART:19701101T020000
RRULE:FREQ=YEARLY;BYMONTH=11;BYDAY=1SU
END:STANDARD
END:VTIMEZONE
BEGIN:VEVENT
SUMMARY:Community Dinner
DTSTART;TZID=America/Los_Angeles:20261117T170000
DTEND;TZID=America/Los_Angeles:20261117T190000
DTSTAMP:20260422T170757Z
UID:97760a38-b534-48b2-8657-ecfdd14e88af@dertown.com
LOCATION:Leavenworth United Methodist Church
DESCRIPTION:Free, monthly community dinner for the entire community: seniors, couples, singles, families and kids! Share a delicious meal and have conversations with friends and neighbors. \n\nThis is a dinner that occurs every 3rd Tuesday of the month...so mark your calendars!
URL:https://www.leavenworthumc.org/
END:VEVENT
END:VCALENDAR