BEGIN:VCALENDAR
VERSION:2.0
PRODID:-//Der Town//Event Calendar//EN
CALSCALE:GREGORIAN
METHOD:PUBLISH
BEGIN:VTIMEZONE
TZID:America/Los_Angeles
X-LIC-LOCATION:America/Los_Angeles
BEGIN:DAYLIGHT
TZOFFSETFROM:-0800
TZOFFSETTO:-0700
TZNAME:PDT
DTSTART:19700308T020000
RRULE:FREQ=YEARLY;BYMONTH=3;BYDAY=2SU
END:DAYLIGHT
BEGIN:STANDARD
TZOFFSETFROM:-0700
TZOFFSETTO:-0800
TZNAME:PST
DTSTART:19701101T020000
RRULE:FREQ=YEARLY;BYMONTH=11;BYDAY=1SU
END:STANDARD
END:VTIMEZONE
BEGIN:VEVENT
SUMMARY:Leavenworth Bike Fest
DTSTART;TZID=America/Los_Angeles:20260619T000000
DTEND;TZID=America/Los_Angeles:20260621T235959
DTSTAMP:20260422T170035Z
UID:8bc50e5c-904e-4d66-b85a-d7723ed43aa1@dertown.com
LOCATION:Ski Hill
DESCRIPTION:Leavenworth Bike Fest brings back Bike 'n Brews and Bike 'n Juice for the kiddos. Add in the brand new SchötterFest Gravel Race; Alpen Tour de Flüsse century rides; live music on the Main Stage featuring Hell's Belles and other local favorites; a bike expo; food trucks; the official Icicle Brewing Finish Line Beer Fest - and we've got a festival on our hands!
URL:https://www.leavenworthbikefest.com/
END:VEVENT
END:VCALENDAR