BEGIN:VCALENDAR
VERSION:2.0
PRODID:-//Der Town//Event Calendar//EN
CALSCALE:GREGORIAN
METHOD:PUBLISH
BEGIN:VTIMEZONE
TZID:America/Los_Angeles
X-LIC-LOCATION:America/Los_Angeles
BEGIN:DAYLIGHT
TZOFFSETFROM:-0800
TZOFFSETTO:-0700
TZNAME:PDT
DTSTART:19700308T020000
RRULE:FREQ=YEARLY;BYMONTH=3;BYDAY=2SU
END:DAYLIGHT
BEGIN:STANDARD
TZOFFSETFROM:-0700
TZOFFSETTO:-0800
TZNAME:PST
DTSTART:19701101T020000
RRULE:FREQ=YEARLY;BYMONTH=11;BYDAY=1SU
END:STANDARD
END:VTIMEZONE
BEGIN:VEVENT
SUMMARY:STEAM Music Makers: Build A Harp
DTSTART;TZID=America/Los_Angeles:20260707T090000
DTEND;TZID=America/Los_Angeles:20260707T100000
DTSTAMP:20260422T165622Z
UID:80d93f16-5a72-4c91-9926-d37b996c09ef@dertown.com
LOCATION:Icicle Creek Center for the Arts
DESCRIPTION:Juel (WVC Professor of Music) and Tanya Iwaasa (Valley Academy Music Teacher) guide students through building their own harp (materials and tools provided) and the fundamentals of playing the harp. For 12-15 year olds.
URL:https://icicle.my.salesforce-sites.com/ticket/#/instances/a0FPH00000Dkmer2AB
END:VEVENT
END:VCALENDAR