BEGIN:VCALENDAR
VERSION:2.0
PRODID:-//Der Town//Event Calendar//EN
CALSCALE:GREGORIAN
METHOD:PUBLISH
BEGIN:VTIMEZONE
TZID:America/Los_Angeles
X-LIC-LOCATION:America/Los_Angeles
BEGIN:DAYLIGHT
TZOFFSETFROM:-0800
TZOFFSETTO:-0700
TZNAME:PDT
DTSTART:19700308T020000
RRULE:FREQ=YEARLY;BYMONTH=3;BYDAY=2SU
END:DAYLIGHT
BEGIN:STANDARD
TZOFFSETFROM:-0700
TZOFFSETTO:-0800
TZNAME:PST
DTSTART:19701101T020000
RRULE:FREQ=YEARLY;BYMONTH=11;BYDAY=1SU
END:STANDARD
END:VTIMEZONE
BEGIN:VEVENT
SUMMARY:Alpenglow - A Night of DJ's and Dancing
DTSTART;TZID=America/Los_Angeles:20260508T193000
DTEND;TZID=America/Los_Angeles:20260508T230000
DTSTAMP:20260422T165423Z
UID:804b008f-3f77-44d2-87a1-40cc8a0b4e69@dertown.com
LOCATION:Snowy Owl Theater
DESCRIPTION:Come join us for a celebration of art, community, music, and dance! We’re excited to host four amazing local DJs, each with their own unique style, ready to bring you the perfect dance soundtrack.
URL:https://icicle.my.salesforce-sites.com/ticket/#/instances/a0FPH00000DoiG52AJ
END:VEVENT
END:VCALENDAR