BEGIN:VCALENDAR
VERSION:2.0
PRODID:-//Der Town//Event Calendar//EN
CALSCALE:GREGORIAN
METHOD:PUBLISH
BEGIN:VTIMEZONE
TZID:America/Los_Angeles
X-LIC-LOCATION:America/Los_Angeles
BEGIN:DAYLIGHT
TZOFFSETFROM:-0800
TZOFFSETTO:-0700
TZNAME:PDT
DTSTART:19700308T020000
RRULE:FREQ=YEARLY;BYMONTH=3;BYDAY=2SU
END:DAYLIGHT
BEGIN:STANDARD
TZOFFSETFROM:-0700
TZOFFSETTO:-0800
TZNAME:PST
DTSTART:19701101T020000
RRULE:FREQ=YEARLY;BYMONTH=11;BYDAY=1SU
END:STANDARD
END:VTIMEZONE
BEGIN:VEVENT
SUMMARY:Friends of the Library meeting
DTSTART;TZID=America/Los_Angeles:20260507T090000
DTEND;TZID=America/Los_Angeles:20260507T100000
DTSTAMP:20260422T165746Z
UID:7d761742-8409-43e8-94b6-6b3d167fae2b@dertown.com
LOCATION:Leavenworth Public Library
DESCRIPTION:Monthly meeting of the Friends of the Leavenworth Library. Interested members of the public are welcome! Time: 9-10am Place: City Council Chambers
URL:https://ncwlibraries.libcal.com/event/16367738
END:VEVENT
END:VCALENDAR