BEGIN:VCALENDAR
VERSION:2.0
PRODID:-//Der Town//Event Calendar//EN
CALSCALE:GREGORIAN
METHOD:PUBLISH
BEGIN:VTIMEZONE
TZID:America/Los_Angeles
X-LIC-LOCATION:America/Los_Angeles
BEGIN:DAYLIGHT
TZOFFSETFROM:-0800
TZOFFSETTO:-0700
TZNAME:PDT
DTSTART:19700308T020000
RRULE:FREQ=YEARLY;BYMONTH=3;BYDAY=2SU
END:DAYLIGHT
BEGIN:STANDARD
TZOFFSETFROM:-0700
TZOFFSETTO:-0800
TZNAME:PST
DTSTART:19701101T020000
RRULE:FREQ=YEARLY;BYMONTH=11;BYDAY=1SU
END:STANDARD
END:VTIMEZONE
BEGIN:VEVENT
SUMMARY:Earth Day Trash Pick-Up
DTSTART;TZID=America/Los_Angeles:20260422T090000
DTEND;TZID=America/Los_Angeles:20260422T110000
DTSTAMP:20260421T100750Z
UID:7c5c6353-bbc1-424f-9a01-7537a8ab681a@dertown.com
LOCATION:Wenatchee River Institute
DESCRIPTION:Come on down to the Wenatchee River Institute to participate in a community cleanup of all the litter that accumulated over the winter along the riverfront trails. It's a great time to get outside to enjoy the beautiful spring wildflowers and birds and to work together to help out our natural areas. We will have gloves and bags available for volunteers! Meet at the WRI parking lot. We will walk along the trails and pick up any trash that we find. Extra points for microplastics! Tell us you're joining by clicking the RSVP button to the right.
URL:https://wenatcheeriverinstitute.org/event-calendar.html/event/2026/04/22/earth-day-trash-pick-up/557926
END:VEVENT
END:VCALENDAR