BEGIN:VCALENDAR
VERSION:2.0
PRODID:-//Der Town//Event Calendar//EN
CALSCALE:GREGORIAN
METHOD:PUBLISH
BEGIN:VTIMEZONE
TZID:America/Los_Angeles
X-LIC-LOCATION:America/Los_Angeles
BEGIN:DAYLIGHT
TZOFFSETFROM:-0800
TZOFFSETTO:-0700
TZNAME:PDT
DTSTART:19700308T020000
RRULE:FREQ=YEARLY;BYMONTH=3;BYDAY=2SU
END:DAYLIGHT
BEGIN:STANDARD
TZOFFSETFROM:-0700
TZOFFSETTO:-0800
TZNAME:PST
DTSTART:19701101T020000
RRULE:FREQ=YEARLY;BYMONTH=11;BYDAY=1SU
END:STANDARD
END:VTIMEZONE
BEGIN:VEVENT
SUMMARY:City Council Meeting
DTSTART;TZID=America/Los_Angeles:20260428T173000
DTEND;TZID=America/Los_Angeles:20260428T200000
DTSTAMP:20260422T170641Z
UID:63a897c0-3fbe-4822-9e05-27aab46f84f2@dertown.com
LOCATION:City Hall Chambers
DESCRIPTION:Biweekly City Council Meetings begin "study session" which seeks to inform Council Members and the public about various important issues with the formal meeting starting at 7:00PM
URL:https://cityofleavenworth.com/your-city-hall/city-council/
END:VEVENT
END:VCALENDAR