BEGIN:VCALENDAR
VERSION:2.0
PRODID:-//Der Town//Event Calendar//EN
CALSCALE:GREGORIAN
METHOD:PUBLISH
BEGIN:VTIMEZONE
TZID:America/Los_Angeles
X-LIC-LOCATION:America/Los_Angeles
BEGIN:DAYLIGHT
TZOFFSETFROM:-0800
TZOFFSETTO:-0700
TZNAME:PDT
DTSTART:19700308T020000
RRULE:FREQ=YEARLY;BYMONTH=3;BYDAY=2SU
END:DAYLIGHT
BEGIN:STANDARD
TZOFFSETFROM:-0700
TZOFFSETTO:-0800
TZNAME:PST
DTSTART:19701101T020000
RRULE:FREQ=YEARLY;BYMONTH=11;BYDAY=1SU
END:STANDARD
END:VTIMEZONE
BEGIN:VEVENT
SUMMARY:Coordinated Entry Services for Homeless/Housing Insecure
DTSTART;TZID=America/Los_Angeles:20260513T140000
DTEND;TZID=America/Los_Angeles:20260513T153000
DTSTAMP:20260422T165608Z
UID:623af2fe-5bc3-427d-8ac6-a11ecd7f97ce@dertown.com
LOCATION:Leavenworth Public Library
DESCRIPTION:If you are experiencing, or at imminent risk of experiencing, homelessness, come talk to a member of Coordinated Entry to assess your eligibility for housing programs and other resources in Chelan County based on need and availability.
URL:https://ncwlibraries.libcal.com/event/16474709
END:VEVENT
END:VCALENDAR