BEGIN:VCALENDAR
VERSION:2.0
PRODID:-//Der Town//Event Calendar//EN
CALSCALE:GREGORIAN
METHOD:PUBLISH
BEGIN:VTIMEZONE
TZID:America/Los_Angeles
X-LIC-LOCATION:America/Los_Angeles
BEGIN:DAYLIGHT
TZOFFSETFROM:-0800
TZOFFSETTO:-0700
TZNAME:PDT
DTSTART:19700308T020000
RRULE:FREQ=YEARLY;BYMONTH=3;BYDAY=2SU
END:DAYLIGHT
BEGIN:STANDARD
TZOFFSETFROM:-0700
TZOFFSETTO:-0800
TZNAME:PST
DTSTART:19701101T020000
RRULE:FREQ=YEARLY;BYMONTH=11;BYDAY=1SU
END:STANDARD
END:VTIMEZONE
BEGIN:VEVENT
SUMMARY:May Singer Songwriter Storyteller
DTSTART;TZID=America/Los_Angeles:20260507T190000
DTEND;TZID=America/Los_Angeles:20260507T210000
DTSTAMP:20260422T184545Z
UID:5dad3a7e-9bff-4a9a-9b4e-f30efd8d2234@dertown.com
LOCATION:Snowy Owl Theater
DESCRIPTION:Music series featuring acoustic instruments, honest vocals, and songs that stay with you long after the last note.\n
URL:https://icicle.my.salesforce-sites.com/ticket/#/instances/a0FPH00000BEbNx2AL
END:VEVENT
END:VCALENDAR