BEGIN:VCALENDAR
VERSION:2.0
PRODID:-//Der Town//Event Calendar//EN
CALSCALE:GREGORIAN
METHOD:PUBLISH
BEGIN:VTIMEZONE
TZID:America/Los_Angeles
X-LIC-LOCATION:America/Los_Angeles
BEGIN:DAYLIGHT
TZOFFSETFROM:-0800
TZOFFSETTO:-0700
TZNAME:PDT
DTSTART:19700308T020000
RRULE:FREQ=YEARLY;BYMONTH=3;BYDAY=2SU
END:DAYLIGHT
BEGIN:STANDARD
TZOFFSETFROM:-0700
TZOFFSETTO:-0800
TZNAME:PST
DTSTART:19701101T020000
RRULE:FREQ=YEARLY;BYMONTH=11;BYDAY=1SU
END:STANDARD
END:VTIMEZONE
BEGIN:VEVENT
SUMMARY:Ski Hill Fall Music Festival
DTSTART;TZID=America/Los_Angeles:20260905T170000
DTEND;TZID=America/Los_Angeles:20260905T220000
DTSTAMP:20260422T165556Z
UID:5cef665e-8b3f-4ca1-96fb-5e0ed06d9cb2@dertown.com
LOCATION:Ski Hill
DESCRIPTION:Come up to Ski Hill on September 5th as we celebrate the end of Summer with local Live Music with Buzz Brump, Dance party with Abe Martinez, food and drinks!  Stay tuned for more details and ticket link! \n\nAll proceeds from this community event benefit Leavenworth Winter Sports Club! \n\nHelp us raise funds to continue our mission and promote health, fitness and fun through skiing and other winter sports by providing quality facilities, education, and activities to the community! \n \nDoors are at 5pm! This is a family friendly event for all ages!\n\nThings to bring:\n\n- blankets/ camping chairs\n- family & friends\n- smiles\n- dancing shoes\n- cash\n- your ID if you plan on purchasing beer or wine\n- your own light up/glow accessories/clothing for the dance party!  We will have a small amount of light up options available with a recommended donation of $1 per item\n\nThings not to bring:\n- outside food & beverages\n- coolers\n- 4-legged friends
URL:https://skileavenworth.com/events/fall-music-festival-2026
END:VEVENT
END:VCALENDAR