BEGIN:VCALENDAR
VERSION:2.0
PRODID:-//Der Town//Event Calendar//EN
CALSCALE:GREGORIAN
METHOD:PUBLISH
BEGIN:VTIMEZONE
TZID:America/Los_Angeles
X-LIC-LOCATION:America/Los_Angeles
BEGIN:DAYLIGHT
TZOFFSETFROM:-0800
TZOFFSETTO:-0700
TZNAME:PDT
DTSTART:19700308T020000
RRULE:FREQ=YEARLY;BYMONTH=3;BYDAY=2SU
END:DAYLIGHT
BEGIN:STANDARD
TZOFFSETFROM:-0700
TZOFFSETTO:-0800
TZNAME:PST
DTSTART:19701101T020000
RRULE:FREQ=YEARLY;BYMONTH=11;BYDAY=1SU
END:STANDARD
END:VTIMEZONE
BEGIN:VEVENT
SUMMARY:Banned Book Club - Telegraph Club
DTSTART;TZID=America/Los_Angeles:20260509T100000
DTEND;TZID=America/Los_Angeles:20260509T110000
DTSTAMP:20260422T171052Z
UID:5a6ee2d6-75dc-4857-9417-028213161513@dertown.com
LOCATION:Leavenworth Public Library
DESCRIPTION:This month's book: Last Night at the Telegraph Club by Malinda Lo. Pick up a copy in April from the library to be prepared for the meeting!\n\nJoin us for curious and respectful conversations about books that have been banned or challenged across the decades. We'll discuss why the books have been banned, what we think about them, and what they have to tell us about the time in which they were banned and their relevance today.\n\nWhat you need to know:\n- Meetings will take place on the second Saturday of the month, January through May, 10-11am. \n- No long-term commitment required! Just sign up for the books you are interested in reading.\n- Register and stop by the library during the month prior for your copy of the book.
URL:https://ncwlibraries.libcal.com/event/15762037
END:VEVENT
END:VCALENDAR