BEGIN:VCALENDAR
VERSION:2.0
PRODID:-//Der Town//Event Calendar//EN
CALSCALE:GREGORIAN
METHOD:PUBLISH
BEGIN:VTIMEZONE
TZID:America/Los_Angeles
X-LIC-LOCATION:America/Los_Angeles
BEGIN:DAYLIGHT
TZOFFSETFROM:-0800
TZOFFSETTO:-0700
TZNAME:PDT
DTSTART:19700308T020000
RRULE:FREQ=YEARLY;BYMONTH=3;BYDAY=2SU
END:DAYLIGHT
BEGIN:STANDARD
TZOFFSETFROM:-0700
TZOFFSETTO:-0800
TZNAME:PST
DTSTART:19701101T020000
RRULE:FREQ=YEARLY;BYMONTH=11;BYDAY=1SU
END:STANDARD
END:VTIMEZONE
BEGIN:VEVENT
SUMMARY:Seed + Plant Exchange
DTSTART;TZID=America/Los_Angeles:20260423T170000
DTEND;TZID=America/Los_Angeles:20260423T190000
DTSTAMP:20260423T144716Z
UID:4dcc7926-8312-484d-85d0-6431ab17741c@dertown.com
LOCATION:Chumstick Grange
DESCRIPTION:Bring:\n🌿 Seeds (even partial packets!)\n🌱 Plant starts\n🌸 Flowers, veggies, herbs — anything you’d like to share\n\nOr just come by and see what others have brought. Everyone is welcome!\n\n\n💚 Thinking about getting more involved in the community? This is also a great time to learn more about the Grange and how to join!\n
URL:https://www.facebook.com/groups/148764008559430/posts/25589660517376429/
END:VEVENT
END:VCALENDAR