BEGIN:VCALENDAR
VERSION:2.0
PRODID:-//Der Town//Event Calendar//EN
CALSCALE:GREGORIAN
METHOD:PUBLISH
BEGIN:VTIMEZONE
TZID:America/Los_Angeles
X-LIC-LOCATION:America/Los_Angeles
BEGIN:DAYLIGHT
TZOFFSETFROM:-0800
TZOFFSETTO:-0700
TZNAME:PDT
DTSTART:19700308T020000
RRULE:FREQ=YEARLY;BYMONTH=3;BYDAY=2SU
END:DAYLIGHT
BEGIN:STANDARD
TZOFFSETFROM:-0700
TZOFFSETTO:-0800
TZNAME:PST
DTSTART:19701101T020000
RRULE:FREQ=YEARLY;BYMONTH=11;BYDAY=1SU
END:STANDARD
END:VTIMEZONE
BEGIN:VEVENT
SUMMARY:Trashion Show
DTSTART;TZID=America/Los_Angeles:20260424T173000
DTEND;TZID=America/Los_Angeles:20260424T193000
DTSTAMP:20260422T151725Z
UID:3f037bbb-832d-42c8-a768-ce92cc9a57b5@dertown.com
LOCATION:Wenatchee River Institute
DESCRIPTION:Annual fashion show featuring wearable art made from recycled and repurposed materials.\n\nCome check out the creative pieces built by your neighbors! There will be four design team categories this year: adult, middle and high school youth, elementary youth, and family. Prizes are available for each category, plus a People's Choice Award where audience members will get to vote for their favorite outfit.
URL:https://wenatcheeriverinstitute.org/programs/community/community-programs.html/event/2026/04/24/5th-annual-trashion-show/548686?blm_aid=285554761
END:VEVENT
END:VCALENDAR