BEGIN:VCALENDAR
VERSION:2.0
PRODID:-//Der Town//Event Calendar//EN
CALSCALE:GREGORIAN
METHOD:PUBLISH
BEGIN:VTIMEZONE
TZID:America/Los_Angeles
X-LIC-LOCATION:America/Los_Angeles
BEGIN:DAYLIGHT
TZOFFSETFROM:-0800
TZOFFSETTO:-0700
TZNAME:PDT
DTSTART:19700308T020000
RRULE:FREQ=YEARLY;BYMONTH=3;BYDAY=2SU
END:DAYLIGHT
BEGIN:STANDARD
TZOFFSETFROM:-0700
TZOFFSETTO:-0800
TZNAME:PST
DTSTART:19701101T020000
RRULE:FREQ=YEARLY;BYMONTH=11;BYDAY=1SU
END:STANDARD
END:VTIMEZONE
BEGIN:VEVENT
SUMMARY:Peshastin Friends of the Library Book Club
DTSTART;TZID=America/Los_Angeles:20260513T150000
DTEND;TZID=America/Los_Angeles:20260513T155000
DTSTAMP:20260422T165846Z
UID:34319110-1244-4851-8a5c-61dace6d15e5@dertown.com
LOCATION:Peshastin Public Library
DESCRIPTION:Looking for something new to read and discuss? Join the Friends of the Peshastin Library Book Club! We meet on the 2nd Wednesday of the month at 3pm in the Peshastin Library. New members are always welcome! Register online or at the library. Contact Peshastin librarian Clare with any questions at (509) 548-7821 or peshastin@ncwlibraries.org.
URL:https://ncwlibraries.libcal.com/event/16234291
END:VEVENT
END:VCALENDAR