BEGIN:VCALENDAR
VERSION:2.0
PRODID:-//Der Town//Event Calendar//EN
CALSCALE:GREGORIAN
METHOD:PUBLISH
BEGIN:VTIMEZONE
TZID:America/Los_Angeles
X-LIC-LOCATION:America/Los_Angeles
BEGIN:DAYLIGHT
TZOFFSETFROM:-0800
TZOFFSETTO:-0700
TZNAME:PDT
DTSTART:19700308T020000
RRULE:FREQ=YEARLY;BYMONTH=3;BYDAY=2SU
END:DAYLIGHT
BEGIN:STANDARD
TZOFFSETFROM:-0700
TZOFFSETTO:-0800
TZNAME:PST
DTSTART:19701101T020000
RRULE:FREQ=YEARLY;BYMONTH=11;BYDAY=1SU
END:STANDARD
END:VTIMEZONE
BEGIN:VEVENT
SUMMARY:Bird Fest Community Fair
DTSTART;TZID=America/Los_Angeles:20260516T100000
DTEND;TZID=America/Los_Angeles:20260516T150000
DTSTAMP:20260422T165608Z
UID:2e83d451-0564-4e28-974d-536985294016@dertown.com
LOCATION:Wenatchee River Institute
DESCRIPTION:Join Us for the Annual Bird Fest Community Fair! A highlight of the festival season is back! We invite you to the Bird Fest Community Fair—a gathering for families, youth, and adults to celebrate birds, wildlife, and the beautiful Wenatchee Valley. Continuing our tradition of an extended schedule, the fair remains open later into the afternoon so you can head over straight from your morning birding field trips. \n\nEnjoy a full afternoon of art and nature activities, guided walks, and live music from local musicians. With a wide variety of artists and vendors on-site, there is truly something for everyone to enjoy.  \n\nHelp us give special thanks to our lead partner for Leavenworth Spring Bird Fest, NCW Audubon Society, and our 2026 Bird Fest Title Sponsor, Sleeping Lady Mountain Resort!
URL:https://wenatcheeriverinstitute.org/event-calendar.html/event/2026/05/16/bird-fest-community-fair/551996
END:VEVENT
END:VCALENDAR