BEGIN:VCALENDAR
VERSION:2.0
PRODID:-//Der Town//Event Calendar//EN
CALSCALE:GREGORIAN
METHOD:PUBLISH
BEGIN:VTIMEZONE
TZID:America/Los_Angeles
X-LIC-LOCATION:America/Los_Angeles
BEGIN:DAYLIGHT
TZOFFSETFROM:-0800
TZOFFSETTO:-0700
TZNAME:PDT
DTSTART:19700308T020000
RRULE:FREQ=YEARLY;BYMONTH=3;BYDAY=2SU
END:DAYLIGHT
BEGIN:STANDARD
TZOFFSETFROM:-0700
TZOFFSETTO:-0800
TZNAME:PST
DTSTART:19701101T020000
RRULE:FREQ=YEARLY;BYMONTH=11;BYDAY=1SU
END:STANDARD
END:VTIMEZONE
BEGIN:VEVENT
SUMMARY:Red, White, and Flute Chamber Music Concert
DTSTART;TZID=America/Los_Angeles:20260509T190000
DTEND;TZID=America/Los_Angeles:20260509T200000
DTSTAMP:20260422T165556Z
UID:2e81f3b1-e0a8-44d7-a127-44ade30a7b33@dertown.com
LOCATION:Canyon Wren Recital Hall
DESCRIPTION:Join Timothy Hagen and Nikolas Caoile in Canyon Wren for a program of dynamic music for flute and piano that explores the meaning of being an American at the 250-year mark. ​
URL:https://icicle.my.salesforce-sites.com/ticket/#/instances/a0FPH00000DtD3Z2AV
END:VEVENT
END:VCALENDAR