BEGIN:VCALENDAR
VERSION:2.0
PRODID:-//Der Town//Event Calendar//EN
CALSCALE:GREGORIAN
METHOD:PUBLISH
BEGIN:VTIMEZONE
TZID:America/Los_Angeles
X-LIC-LOCATION:America/Los_Angeles
BEGIN:DAYLIGHT
TZOFFSETFROM:-0800
TZOFFSETTO:-0700
TZNAME:PDT
DTSTART:19700308T020000
RRULE:FREQ=YEARLY;BYMONTH=3;BYDAY=2SU
END:DAYLIGHT
BEGIN:STANDARD
TZOFFSETFROM:-0700
TZOFFSETTO:-0800
TZNAME:PST
DTSTART:19701101T020000
RRULE:FREQ=YEARLY;BYMONTH=11;BYDAY=1SU
END:STANDARD
END:VTIMEZONE
BEGIN:VEVENT
SUMMARY:Community Dinner
DTSTART;TZID=America/Los_Angeles:20260616T170000
DTEND;TZID=America/Los_Angeles:20260616T190000
DTSTAMP:20260422T185114Z
UID:299eda4f-8d9f-4216-a8c6-1901967b8423@dertown.com
LOCATION:Leavenworth United Methodist Church
DESCRIPTION:Free, monthly community dinner for the entire community: seniors, couples, singles, families and kids! Share a delicious meal and have conversations with friends and neighbors. \n\nThis is a dinner that occurs every 3rd Tuesday of the month...so mark your calendars!
URL:https://www.leavenworthumc.org/
END:VEVENT
END:VCALENDAR