BEGIN:VCALENDAR
VERSION:2.0
PRODID:-//Der Town//Event Calendar//EN
CALSCALE:GREGORIAN
METHOD:PUBLISH
BEGIN:VTIMEZONE
TZID:America/Los_Angeles
X-LIC-LOCATION:America/Los_Angeles
BEGIN:DAYLIGHT
TZOFFSETFROM:-0800
TZOFFSETTO:-0700
TZNAME:PDT
DTSTART:19700308T020000
RRULE:FREQ=YEARLY;BYMONTH=3;BYDAY=2SU
END:DAYLIGHT
BEGIN:STANDARD
TZOFFSETFROM:-0700
TZOFFSETTO:-0800
TZNAME:PST
DTSTART:19701101T020000
RRULE:FREQ=YEARLY;BYMONTH=11;BYDAY=1SU
END:STANDARD
END:VTIMEZONE
BEGIN:VEVENT
SUMMARY:Evening Ecstatic Dance & Contact Jam: April
DTSTART;TZID=America/Los_Angeles:20260430T170000
DTEND;TZID=America/Los_Angeles:20260430T210000
DTSTAMP:20260422T165439Z
UID:0ecaf2db-5dae-4ae0-a26b-dd6f1c27b4ff@dertown.com
LOCATION:Canyon Wren Recital Hall
DESCRIPTION:We invite you to connect with your body’s rhythms and embrace your true self. Dance is a powerful medicine that helps us release emotions, explore boundaries, and reconnect with our inner wisdom. It encourages curiosity about what we hold within.
URL:https://icicle.my.salesforce-sites.com/ticket/#/instances/a0FPH00000DkElF2AV
END:VEVENT
END:VCALENDAR