BEGIN:VCALENDAR
VERSION:2.0
PRODID:-//Der Town//Event Calendar//EN
CALSCALE:GREGORIAN
METHOD:PUBLISH
BEGIN:VTIMEZONE
TZID:America/Los_Angeles
X-LIC-LOCATION:America/Los_Angeles
BEGIN:DAYLIGHT
TZOFFSETFROM:-0800
TZOFFSETTO:-0700
TZNAME:PDT
DTSTART:19700308T020000
RRULE:FREQ=YEARLY;BYMONTH=3;BYDAY=2SU
END:DAYLIGHT
BEGIN:STANDARD
TZOFFSETFROM:-0700
TZOFFSETTO:-0800
TZNAME:PST
DTSTART:19701101T020000
RRULE:FREQ=YEARLY;BYMONTH=11;BYDAY=1SU
END:STANDARD
END:VTIMEZONE
BEGIN:VEVENT
SUMMARY:Parking Advisory Committee
DTSTART;TZID=America/Los_Angeles:20261119T160000
DTEND;TZID=America/Los_Angeles:20261119T180000
DTSTAMP:20260422T184527Z
UID:0e249bee-d6a9-425c-a113-29872280d8aa@dertown.com
LOCATION:City Hall Chambers
DESCRIPTION:The Parking Advisory Committee is charged with evaluating how both public and private parking spaces are utilized,  identify issues and then responding with appropriate policies and management strategies that align with community objectives.
URL:https://cityofleavenworth.com/your-city-hall/parking-advisory-committee/
END:VEVENT
END:VCALENDAR