BEGIN:VCALENDAR
VERSION:2.0
PRODID:-//Der Town//Event Calendar//EN
CALSCALE:GREGORIAN
METHOD:PUBLISH
BEGIN:VTIMEZONE
TZID:America/Los_Angeles
X-LIC-LOCATION:America/Los_Angeles
BEGIN:DAYLIGHT
TZOFFSETFROM:-0800
TZOFFSETTO:-0700
TZNAME:PDT
DTSTART:19700308T020000
RRULE:FREQ=YEARLY;BYMONTH=3;BYDAY=2SU
END:DAYLIGHT
BEGIN:STANDARD
TZOFFSETFROM:-0700
TZOFFSETTO:-0800
TZNAME:PST
DTSTART:19701101T020000
RRULE:FREQ=YEARLY;BYMONTH=11;BYDAY=1SU
END:STANDARD
END:VTIMEZONE
BEGIN:VEVENT
SUMMARY:Design Review Board
DTSTART;TZID=America/Los_Angeles:20260610T150000
DTEND;TZID=America/Los_Angeles:20260610T170000
DTSTAMP:20260422T170955Z
UID:0ba81daa-8e8f-411e-bdab-1a886a9888b1@dertown.com
LOCATION:City Hall Chambers
DESCRIPTION:The Design Review Board reviews and approves design applications for various elements, including: commercial buildings, signage, fences, + lighting to ensure compliance with the city's Old World Bavarian Theme ordinance and maintain the cohesive visual identity of Der Town.
URL:https://cityofleavenworth.com/your-city-hall/boards-commissions/design-review-board/
END:VEVENT
END:VCALENDAR