BEGIN:VCALENDAR
VERSION:2.0
PRODID:-//Der Town//Event Calendar//EN
CALSCALE:GREGORIAN
METHOD:PUBLISH
BEGIN:VTIMEZONE
TZID:America/Los_Angeles
X-LIC-LOCATION:America/Los_Angeles
BEGIN:DAYLIGHT
TZOFFSETFROM:-0800
TZOFFSETTO:-0700
TZNAME:PDT
DTSTART:19700308T020000
RRULE:FREQ=YEARLY;BYMONTH=3;BYDAY=2SU
END:DAYLIGHT
BEGIN:STANDARD
TZOFFSETFROM:-0700
TZOFFSETTO:-0800
TZNAME:PST
DTSTART:19701101T020000
RRULE:FREQ=YEARLY;BYMONTH=11;BYDAY=1SU
END:STANDARD
END:VTIMEZONE
BEGIN:VEVENT
SUMMARY:Leavenworth Trail Fest
DTSTART;TZID=America/Los_Angeles:20260523T000000
DTEND;TZID=America/Los_Angeles:20260523T235959
DTSTAMP:20260422T170417Z
UID:0adfa09b-8afe-4b1a-bcda-f2b0b95eef24@dertown.com
LOCATION:Ski Hill
DESCRIPTION:Trail running festival with routes for every level! \n\nChoose your challenge:\n\n- Ski Hill 55k: Conquer 7,200+ feet of vert in a race that’ll test your limits!\n- Skyline 27k: Earn your spot in the Vert Running Series on this qualifying course.\n- The Town 5k: Sprint through the heart of Leavenworth and feel the festival energy!
URL:https://mountainrunningraces.com/leavenworth-trail-fest/
END:VEVENT
END:VCALENDAR