BEGIN:VCALENDAR
VERSION:2.0
PRODID:-//Der Town//Event Calendar//EN
CALSCALE:GREGORIAN
METHOD:PUBLISH
BEGIN:VTIMEZONE
TZID:America/Los_Angeles
X-LIC-LOCATION:America/Los_Angeles
BEGIN:DAYLIGHT
TZOFFSETFROM:-0800
TZOFFSETTO:-0700
TZNAME:PDT
DTSTART:19700308T020000
RRULE:FREQ=YEARLY;BYMONTH=3;BYDAY=2SU
END:DAYLIGHT
BEGIN:STANDARD
TZOFFSETFROM:-0700
TZOFFSETTO:-0800
TZNAME:PST
DTSTART:19701101T020000
RRULE:FREQ=YEARLY;BYMONTH=11;BYDAY=1SU
END:STANDARD
END:VTIMEZONE
BEGIN:VEVENT
SUMMARY:Housing Summit
DTSTART;TZID=America/Los_Angeles:20260611T090000
DTEND;TZID=America/Los_Angeles:20260611T153000
DTSTAMP:20260422T170320Z
UID:03b8718d-c1d2-4722-b9c4-98cbe460afaf@dertown.com
LOCATION:Festhalle
DESCRIPTION:For a decade, Our Valley Our Future (OVOF) has convened the Regional Housing Solutions Group. Join us for our next Housing Summit as we recognize the steady progress being made and explore new solutions.\n\nRegistration link is forthcoming.
URL:https://ourvalleyourfuture.org/housing-our-valley/housing-summit/
END:VEVENT
END:VCALENDAR